BEGIN:VCALENDAR
VERSION:2.0
PRODID:-//St. Gregory&#039;s Pantry - ECPv6.15.17.1//NONSGML v1.0//EN
CALSCALE:GREGORIAN
METHOD:PUBLISH
X-WR-CALNAME:St. Gregory&#039;s Pantry
X-ORIGINAL-URL:https://stgregoryspantry.org
X-WR-CALDESC:Events for St. Gregory&#039;s Pantry
REFRESH-INTERVAL;VALUE=DURATION:PT1H
X-Robots-Tag:noindex
X-PUBLISHED-TTL:PT1H
BEGIN:VTIMEZONE
TZID:America/New_York
BEGIN:DAYLIGHT
TZOFFSETFROM:-0500
TZOFFSETTO:-0400
TZNAME:EDT
DTSTART:20250309T070000
END:DAYLIGHT
BEGIN:STANDARD
TZOFFSETFROM:-0400
TZOFFSETTO:-0500
TZNAME:EST
DTSTART:20251102T060000
END:STANDARD
BEGIN:DAYLIGHT
TZOFFSETFROM:-0500
TZOFFSETTO:-0400
TZNAME:EDT
DTSTART:20260308T070000
END:DAYLIGHT
BEGIN:STANDARD
TZOFFSETFROM:-0400
TZOFFSETTO:-0500
TZNAME:EST
DTSTART:20261101T060000
END:STANDARD
BEGIN:DAYLIGHT
TZOFFSETFROM:-0500
TZOFFSETTO:-0400
TZNAME:EDT
DTSTART:20270314T070000
END:DAYLIGHT
BEGIN:STANDARD
TZOFFSETFROM:-0400
TZOFFSETTO:-0500
TZNAME:EST
DTSTART:20271107T060000
END:STANDARD
END:VTIMEZONE
BEGIN:VEVENT
DTSTART;TZID=America/New_York:20260224T160000
DTEND;TZID=America/New_York:20260224T180000
DTSTAMP:20260421T024413
CREATED:20260122T194714Z
LAST-MODIFIED:20260122T194714Z
UID:3137-1771948800-1771956000@stgregoryspantry.org
SUMMARY:Supper with All Saints
DESCRIPTION:Supper with All Saints: we provide a free meal from 4:00pm – 6:00pm \nAll Saints Church\, 500 Lake Avenue\, Bay Head\, NJ 08742\nFor additional information\, please call: 732-892-5198 (pick up orders not provided)
URL:https://stgregoryspantry.org/events/supper-with-all-saints-5/
LOCATION:All Saints Church\, 500 Lake Avenue\, Bay Head\, NJ\, 08742
END:VEVENT
END:VCALENDAR