BEGIN:VCALENDAR
VERSION:2.0
PRODID:-//St. Gregory&#039;s Pantry - ECPv6.15.17.1//NONSGML v1.0//EN
CALSCALE:GREGORIAN
METHOD:PUBLISH
X-WR-CALNAME:St. Gregory&#039;s Pantry
X-ORIGINAL-URL:https://stgregoryspantry.org
X-WR-CALDESC:Events for St. Gregory&#039;s Pantry
REFRESH-INTERVAL;VALUE=DURATION:PT1H
X-Robots-Tag:noindex
X-PUBLISHED-TTL:PT1H
BEGIN:VTIMEZONE
TZID:America/New_York
BEGIN:DAYLIGHT
TZOFFSETFROM:-0500
TZOFFSETTO:-0400
TZNAME:EDT
DTSTART:20250309T070000
END:DAYLIGHT
BEGIN:STANDARD
TZOFFSETFROM:-0400
TZOFFSETTO:-0500
TZNAME:EST
DTSTART:20251102T060000
END:STANDARD
BEGIN:DAYLIGHT
TZOFFSETFROM:-0500
TZOFFSETTO:-0400
TZNAME:EDT
DTSTART:20260308T070000
END:DAYLIGHT
BEGIN:STANDARD
TZOFFSETFROM:-0400
TZOFFSETTO:-0500
TZNAME:EST
DTSTART:20261101T060000
END:STANDARD
BEGIN:DAYLIGHT
TZOFFSETFROM:-0500
TZOFFSETTO:-0400
TZNAME:EDT
DTSTART:20270314T070000
END:DAYLIGHT
BEGIN:STANDARD
TZOFFSETFROM:-0400
TZOFFSETTO:-0500
TZNAME:EST
DTSTART:20271107T060000
END:STANDARD
END:VTIMEZONE
BEGIN:VEVENT
DTSTART;TZID=America/New_York:20260316T100000
DTEND;TZID=America/New_York:20260330T120000
DTSTAMP:20260425T220851
CREATED:20260309T144237Z
LAST-MODIFIED:20260309T144237Z
UID:3172-1773655200-1774872000@stgregoryspantry.org
SUMMARY:Collecting Easter Baskets
DESCRIPTION:St Gregory’s Pantry is collecting Filled and Covered Easter Baskets March 16th through March 30th.\nBaskets may be dropped off during our weekday hours\, 10am – 12pm. \nWe are collecting baskets for infants and toddlers through teens. \nThe drop-off area is on the Atlantic Ave. side of St. Mary’s by-the-Sea\, lower level. If you would like to drop off non-perishable items at any other time\, they may be placed in the box by the parking lot door (off Bay Avenue). \nThank you!
URL:https://stgregoryspantry.org/events/collecting-easter-baskets/
LOCATION:St. Gregory’s Pantry\, 804 Bay Avenue\, Point Pleasant Beach\, NJ\, 08742
END:VEVENT
END:VCALENDAR