BEGIN:VCALENDAR
VERSION:2.0
PRODID:-//St. Gregory&#039;s Pantry - ECPv6.15.17.1//NONSGML v1.0//EN
CALSCALE:GREGORIAN
METHOD:PUBLISH
X-ORIGINAL-URL:https://stgregoryspantry.org
X-WR-CALDESC:Events for St. Gregory&#039;s Pantry
REFRESH-INTERVAL;VALUE=DURATION:PT1H
X-Robots-Tag:noindex
X-PUBLISHED-TTL:PT1H
BEGIN:VTIMEZONE
TZID:America/New_York
BEGIN:DAYLIGHT
TZOFFSETFROM:-0500
TZOFFSETTO:-0400
TZNAME:EDT
DTSTART:20250309T070000
END:DAYLIGHT
BEGIN:STANDARD
TZOFFSETFROM:-0400
TZOFFSETTO:-0500
TZNAME:EST
DTSTART:20251102T060000
END:STANDARD
BEGIN:DAYLIGHT
TZOFFSETFROM:-0500
TZOFFSETTO:-0400
TZNAME:EDT
DTSTART:20260308T070000
END:DAYLIGHT
BEGIN:STANDARD
TZOFFSETFROM:-0400
TZOFFSETTO:-0500
TZNAME:EST
DTSTART:20261101T060000
END:STANDARD
BEGIN:DAYLIGHT
TZOFFSETFROM:-0500
TZOFFSETTO:-0400
TZNAME:EDT
DTSTART:20270314T070000
END:DAYLIGHT
BEGIN:STANDARD
TZOFFSETFROM:-0400
TZOFFSETTO:-0500
TZNAME:EST
DTSTART:20271107T060000
END:STANDARD
END:VTIMEZONE
BEGIN:VEVENT
DTSTART;VALUE=DATE:20260403
DTEND;VALUE=DATE:20260404
DTSTAMP:20260425T152308
CREATED:20260309T144805Z
LAST-MODIFIED:20260309T144805Z
UID:3175-1775174400-1775260799@stgregoryspantry.org
SUMMARY:Closed for Good Friday
DESCRIPTION:St. Gregory’s Pantry is closed today for the Easter Holiday. Happy Easter! \nWe will be back to our regular hours on Monday\, April 6th\, 10:00am – 12:00pm.
URL:https://stgregoryspantry.org/events/closed-for-good-friday/
LOCATION:St. Gregory’s Pantry\, 804 Bay Avenue\, Point Pleasant Beach\, NJ\, 08742
END:VEVENT
END:VCALENDAR